Package: gemma.R Version: 3.2.1 Command: /Library/Frameworks/R.framework/Resources/bin/R CMD build --keep-empty-dirs --no-resave-data gemma.R StartedAt: 2025-02-03 19:06:05 -0500 (Mon, 03 Feb 2025) EndedAt: 2025-02-03 19:12:30 -0500 (Mon, 03 Feb 2025) EllapsedTime: 385.2 seconds RetCode: 0 Status: OK PackageFile: gemma.R_3.2.1.tar.gz PackageFileSize: 2.118 MiB