Package: gemma.R Version: 3.2.1 Command: /Library/Frameworks/R.framework/Resources/bin/R CMD INSTALL gemma.R StartedAt: 2025-02-03 15:58:39 -0500 (Mon, 03 Feb 2025) EndedAt: 2025-02-03 15:58:52 -0500 (Mon, 03 Feb 2025) EllapsedTime: 12.8 seconds RetCode: 0 Status: OK