Package: gemma.R Version: 3.2.1 Command: F:\biocbuild\bbs-3.20-bioc\R\bin\R.exe CMD INSTALL gemma.R StartedAt: 2025-02-03 16:18:24 -0500 (Mon, 03 Feb 2025) EndedAt: 2025-02-03 16:19:09 -0500 (Mon, 03 Feb 2025) EllapsedTime: 44.8 seconds RetCode: 0 Status: OK