Package: gemma.R
Version: 3.2.0
Command: /home/biocbuild/bbs-3.20-bioc/R/bin/R CMD INSTALL gemma.R
StartedAt: 2024-11-19 16:13:29 -0500 (Tue, 19 Nov 2024)
EndedAt: 2024-11-19 16:13:33 -0500 (Tue, 19 Nov 2024)
EllapsedTime: 4.1 seconds
RetCode: 0
Status: OK