Package: genArise Version: 1.82.0 Command: rm -rf genArise.buildbin-libdir && mkdir genArise.buildbin-libdir && /Users/biocbuild/BBS/utils/build-universal.sh genArise_1.82.0.tar.gz /Library/Frameworks/R.framework/Resources/bin/R genArise.buildbin-libdir StartedAt: 2025-01-31 12:51:08 -0500 (Fri, 31 Jan 2025) EndedAt: 2025-01-31 12:51:29 -0500 (Fri, 31 Jan 2025) EllapsedTime: 21.2 seconds RetCode: 0 Status: OK PackageFile: genArise_1.82.0.tgz PackageFileSize: 1.24 MiB