Package: genArise Version: 1.82.0 Command: /Library/Frameworks/R.framework/Resources/bin/R CMD build --keep-empty-dirs --no-resave-data genArise StartedAt: 2025-02-03 19:06:05 -0500 (Mon, 03 Feb 2025) EndedAt: 2025-02-03 19:06:37 -0500 (Mon, 03 Feb 2025) EllapsedTime: 31.9 seconds RetCode: 0 Status: OK PackageFile: genArise_1.82.0.tar.gz PackageFileSize: 1.023 MiB