Package: genArise Version: 1.82.0 Command: /Library/Frameworks/R.framework/Resources/bin/R CMD check --install=check:genArise.install-out.txt --library=/Library/Frameworks/R.framework/Resources/library --no-vignettes --timings genArise_1.82.0.tar.gz StartedAt: 2025-01-31 04:13:54 -0500 (Fri, 31 Jan 2025) EndedAt: 2025-01-31 04:15:19 -0500 (Fri, 31 Jan 2025) EllapsedTime: 85.4 seconds RetCode: 0 Status: WARNINGS CheckDir: genArise.Rcheck Warnings: 1