Package: genArise Version: 1.82.0 Command: /home/biocbuild/bbs-3.20-bioc/R/bin/R CMD build --keep-empty-dirs --no-resave-data --md5 genArise StartedAt: 2025-01-30 17:21:26 -0500 (Thu, 30 Jan 2025) EndedAt: 2025-01-30 17:21:37 -0500 (Thu, 30 Jan 2025) EllapsedTime: 11.0 seconds RetCode: 0 Status: OK PackageFile: genArise_1.82.0.tar.gz PackageFileSize: 1.028 MiB