Package: genArise Version: 1.82.0 Command: /home/biocbuild/bbs-3.20-bioc/R/bin/R CMD check --install=check:genArise.install-out.txt --library=/home/biocbuild/bbs-3.20-bioc/R/site-library --timings genArise_1.82.0.tar.gz StartedAt: 2025-01-30 22:25:37 -0500 (Thu, 30 Jan 2025) EndedAt: 2025-01-30 22:26:11 -0500 (Thu, 30 Jan 2025) EllapsedTime: 34.0 seconds RetCode: 0 Status: WARNINGS CheckDir: genArise.Rcheck Warnings: 1