Package: genArise Version: 1.82.0 Command: rm -rf genArise.buildbin-libdir && mkdir genArise.buildbin-libdir && F:\biocbuild\bbs-3.20-bioc\R\bin\R.exe CMD INSTALL --build --library=genArise.buildbin-libdir genArise_1.82.0.tar.gz StartedAt: 2025-01-31 08:42:07 -0500 (Fri, 31 Jan 2025) EndedAt: 2025-01-31 08:42:36 -0500 (Fri, 31 Jan 2025) EllapsedTime: 29.7 seconds RetCode: 0 Status: OK PackageFile: genArise_1.82.0.zip PackageFileSize: 1.045 MiB