Package: genArise Version: 1.82.0 Command: F:\biocbuild\bbs-3.20-bioc\R\bin\R.exe CMD check --no-multiarch --install=check:genArise.install-out.txt --library=F:\biocbuild\bbs-3.20-bioc\R\library --no-vignettes --timings genArise_1.82.0.tar.gz StartedAt: 2025-02-04 02:04:01 -0500 (Tue, 04 Feb 2025) EndedAt: 2025-02-04 02:04:47 -0500 (Tue, 04 Feb 2025) EllapsedTime: 46.0 seconds RetCode: 0 Status: WARNINGS CheckDir: genArise.Rcheck Warnings: 1