Package: genArise Version: 1.82.0 Command: F:\biocbuild\bbs-3.20-bioc\R\bin\R.exe CMD INSTALL genArise StartedAt: 2025-01-30 15:24:45 -0500 (Thu, 30 Jan 2025) EndedAt: 2025-01-30 15:25:14 -0500 (Thu, 30 Jan 2025) EllapsedTime: 28.6 seconds RetCode: 0 Status: OK