Package: genArise Version: 1.82.0 Command: /home/biocbuild/R/R/bin/R CMD build --keep-empty-dirs --no-resave-data genArise StartedAt: 2025-02-03 23:46:04 -0000 (Mon, 03 Feb 2025) EndedAt: 2025-02-03 23:46:17 -0000 (Mon, 03 Feb 2025) EllapsedTime: 13.0 seconds RetCode: 0 Status: OK PackageFile: genArise_1.82.0.tar.gz PackageFileSize: 1.01 MiB