Package: genArise Version: 1.82.0 Command: /home/biocbuild/R/R/bin/R CMD check --install=check:genArise.install-out.txt --library=/home/biocbuild/R/R/site-library --no-vignettes --timings genArise_1.82.0.tar.gz StartedAt: 2025-02-04 07:13:44 -0000 (Tue, 04 Feb 2025) EndedAt: 2025-02-04 07:14:19 -0000 (Tue, 04 Feb 2025) EllapsedTime: 35.0 seconds RetCode: 0 Status: WARNINGS CheckDir: genArise.Rcheck Warnings: 1