Package: genArise Version: 1.82.0 Command: /home/biocbuild/R/R/bin/R CMD INSTALL genArise StartedAt: 2025-02-03 20:25:11 -0000 (Mon, 03 Feb 2025) EndedAt: 2025-02-03 20:25:45 -0000 (Mon, 03 Feb 2025) EllapsedTime: 34.2 seconds RetCode: 0 Status: OK