Package: geneClassifiers
Version: 1.30.0
Command: /Library/Frameworks/R.framework/Resources/bin/R CMD INSTALL geneClassifiers
StartedAt: 2024-11-08 15:12:40 -0500 (Fri, 08 Nov 2024)
EndedAt: 2024-11-08 15:12:43 -0500 (Fri, 08 Nov 2024)
EllapsedTime: 3.2 seconds
RetCode: 0
Status: OK