Package: geneClassifiers Version: 1.30.0 Command: /Library/Frameworks/R.framework/Resources/bin/R CMD check --install=check:geneClassifiers.install-out.txt --library=/Library/Frameworks/R.framework/Resources/library --no-vignettes --timings geneClassifiers_1.30.0.tar.gz StartedAt: 2025-02-04 04:04:01 -0500 (Tue, 04 Feb 2025) EndedAt: 2025-02-04 04:05:23 -0500 (Tue, 04 Feb 2025) EllapsedTime: 81.1 seconds RetCode: 0 Status: OK CheckDir: geneClassifiers.Rcheck Warnings: 0