Package: geneRxCluster Version: 1.42.0 Command: rm -rf geneRxCluster.buildbin-libdir && mkdir geneRxCluster.buildbin-libdir && /Users/biocbuild/BBS/utils/build-universal.sh geneRxCluster_1.42.0.tar.gz /Library/Frameworks/R.framework/Resources/bin/R geneRxCluster.buildbin-libdir StartedAt: 2025-02-05 15:58:20 -0500 (Wed, 05 Feb 2025) EndedAt: 2025-02-05 15:58:33 -0500 (Wed, 05 Feb 2025) EllapsedTime: 13.5 seconds RetCode: 0 Status: OK PackageFile: geneRxCluster_1.42.0.tgz PackageFileSize: 336.7 KiB