Package: geneRxCluster Version: 1.42.0 Command: /Library/Frameworks/R.framework/Resources/bin/R CMD build --keep-empty-dirs --no-resave-data geneRxCluster StartedAt: 2025-02-17 19:12:18 -0500 (Mon, 17 Feb 2025) EndedAt: 2025-02-17 19:13:37 -0500 (Mon, 17 Feb 2025) EllapsedTime: 79.1 seconds RetCode: 0 Status: OK PackageFile: geneRxCluster_1.42.0.tar.gz PackageFileSize: 280.4 <A href="http://en.wikipedia.org/wiki/KiB" target="_blank">KiB</A>