Package: geneRxCluster
Version: 1.42.0
Command: /Library/Frameworks/R.framework/Resources/bin/R CMD INSTALL geneRxCluster
StartedAt: 2025-02-17 15:11:23 -0500 (Mon, 17 Feb 2025)
EndedAt: 2025-02-17 15:11:47 -0500 (Mon, 17 Feb 2025)
EllapsedTime: 24.1 seconds
RetCode: 0
Status: OK