Package: geneXtendeR Version: 1.32.0 Command: /home/biocbuild/bbs-3.20-bioc/R/bin/R CMD build --keep-empty-dirs --no-resave-data --md5 geneXtendeR StartedAt: 2025-02-03 17:32:27 -0500 (Mon, 03 Feb 2025) EndedAt: 2025-02-03 17:32:31 -0500 (Mon, 03 Feb 2025) EllapsedTime: 4.0 seconds RetCode: 0 Status: OK PackageFile: geneXtendeR_1.32.0.tar.gz PackageFileSize: 11.74 MiB