Package: geneXtendeR
Version: 1.31.0
Command: F:\biocbuild\bbs-3.20-bioc\R\bin\R.exe CMD check --no-multiarch --install=check:geneXtendeR.install-out.txt --library=F:\biocbuild\bbs-3.20-bioc\R\library --no-vignettes --timings geneXtendeR_1.31.0.tar.gz
StartedAt: 2024-06-10 03:05:57 -0400 (Mon, 10 Jun 2024)
EndedAt: 2024-06-10 03:24:39 -0400 (Mon, 10 Jun 2024)
EllapsedTime: 1121.8 seconds
RetCode: 0
Status: WARNINGS
CheckDir: geneXtendeR.Rcheck
Warnings: 2