Package: genefu Version: 2.38.0 Command: /Library/Frameworks/R.framework/Resources/bin/R CMD INSTALL genefu StartedAt: 2025-02-03 18:16:15 -0500 (Mon, 03 Feb 2025) EndedAt: 2025-02-03 18:16:42 -0500 (Mon, 03 Feb 2025) EllapsedTime: 27.7 seconds RetCode: 0 Status: OK