Package: genefu Version: 2.38.0 Command: /Library/Frameworks/R.framework/Resources/bin/R CMD check --install=check:genefu.install-out.txt --library=/Library/Frameworks/R.framework/Resources/library --no-vignettes --timings genefu_2.38.0.tar.gz StartedAt: 2025-02-04 04:04:54 -0500 (Tue, 04 Feb 2025) EndedAt: 2025-02-04 04:09:27 -0500 (Tue, 04 Feb 2025) EllapsedTime: 273.7 seconds RetCode: 1 Status: ERROR CheckDir: genefu.Rcheck Warnings: NA