Package: genefu Version: 2.38.0 Command: /home/biocbuild/R/R/bin/R CMD INSTALL genefu StartedAt: 2025-02-03 21:23:56 -0000 (Mon, 03 Feb 2025) EndedAt: 2025-02-03 21:24:27 -0000 (Mon, 03 Feb 2025) EllapsedTime: 30.8 seconds RetCode: 0 Status: OK