Package: geneplast Version: 1.32.0 Command: chmod a+r geneplast -R && F:\biocbuild\bbs-3.20-bioc\R\bin\R.exe CMD build --keep-empty-dirs --no-resave-data geneplast StartedAt: 2025-02-03 19:21:58 -0500 (Mon, 03 Feb 2025) EndedAt: 2025-02-03 19:22:53 -0500 (Mon, 03 Feb 2025) EllapsedTime: 55.0 seconds RetCode: 0 Status: OK PackageFile: geneplast_1.32.0.tar.gz PackageFileSize: 7.073 MiB