Package: genoCN Version: 1.58.0 Command: rm -rf genoCN.buildbin-libdir && mkdir genoCN.buildbin-libdir && /Users/biocbuild/BBS/utils/build-universal.sh genoCN_1.58.0.tar.gz /Library/Frameworks/R.framework/Resources/bin/R genoCN.buildbin-libdir StartedAt: 2025-02-01 15:03:22 -0500 (Sat, 01 Feb 2025) EndedAt: 2025-02-01 15:03:30 -0500 (Sat, 01 Feb 2025) EllapsedTime: 8.0 seconds RetCode: 0 Status: OK PackageFile: genoCN_1.58.0.tgz PackageFileSize: 1014 KiB