Package: genoCN Version: 1.58.0 Command: /Library/Frameworks/R.framework/Resources/bin/R CMD check --install=check:genoCN.install-out.txt --library=/Library/Frameworks/R.framework/Resources/library --no-vignettes --timings genoCN_1.58.0.tar.gz StartedAt: 2025-01-31 20:14:59 -0500 (Fri, 31 Jan 2025) EndedAt: 2025-01-31 20:15:44 -0500 (Fri, 31 Jan 2025) EllapsedTime: 45.4 seconds RetCode: 0 Status: OK CheckDir: genoCN.Rcheck Warnings: 0