Package: genoCN Version: 1.58.0 Command: /Library/Frameworks/R.framework/Resources/bin/R CMD build --keep-empty-dirs --no-resave-data genoCN StartedAt: 2025-01-30 19:20:55 -0500 (Thu, 30 Jan 2025) EndedAt: 2025-01-30 19:21:23 -0500 (Thu, 30 Jan 2025) EllapsedTime: 27.8 seconds RetCode: 0 Status: OK PackageFile: genoCN_1.58.0.tar.gz PackageFileSize: 1.138 MiB