Package: genoCN Version: 1.58.0 Command: /Library/Frameworks/R.framework/Resources/bin/R CMD INSTALL genoCN StartedAt: 2025-01-30 15:27:14 -0500 (Thu, 30 Jan 2025) EndedAt: 2025-01-30 15:27:26 -0500 (Thu, 30 Jan 2025) EllapsedTime: 11.8 seconds RetCode: 0 Status: OK