Package: genoCN Version: 1.58.0 Command: /home/biocbuild/bbs-3.20-bioc/R/bin/R CMD check --install=check:genoCN.install-out.txt --library=/home/biocbuild/bbs-3.20-bioc/R/site-library --timings genoCN_1.58.0.tar.gz StartedAt: 2025-01-30 22:29:27 -0500 (Thu, 30 Jan 2025) EndedAt: 2025-01-30 22:30:05 -0500 (Thu, 30 Jan 2025) EllapsedTime: 38.1 seconds RetCode: 0 Status: WARNINGS CheckDir: genoCN.Rcheck Warnings: 1