Package: genoCN Version: 1.58.0 Command: rm -rf genoCN.buildbin-libdir && mkdir genoCN.buildbin-libdir && F:\biocbuild\bbs-3.20-bioc\R\bin\R.exe CMD INSTALL --build --library=genoCN.buildbin-libdir genoCN_1.58.0.tar.gz StartedAt: 2025-01-31 08:43:16 -0500 (Fri, 31 Jan 2025) EndedAt: 2025-01-31 08:43:30 -0500 (Fri, 31 Jan 2025) EllapsedTime: 14.1 seconds RetCode: 0 Status: OK PackageFile: genoCN_1.58.0.zip PackageFileSize: 907.4 KiB