Package: genoCN Version: 1.58.0 Command: chmod a+r genoCN -R && F:\biocbuild\bbs-3.20-bioc\R\bin\R.exe CMD build --keep-empty-dirs --no-resave-data genoCN StartedAt: 2025-01-30 19:08:00 -0500 (Thu, 30 Jan 2025) EndedAt: 2025-01-30 19:08:22 -0500 (Thu, 30 Jan 2025) EllapsedTime: 21.8 seconds RetCode: 0 Status: OK PackageFile: genoCN_1.58.0.tar.gz PackageFileSize: 1.026 MiB