Package: genomation Version: 1.38.0 Command: /Library/Frameworks/R.framework/Resources/bin/R CMD build --keep-empty-dirs --no-resave-data genomation StartedAt: 2025-02-04 00:09:12 -0500 (Tue, 04 Feb 2025) EndedAt: 2025-02-04 00:10:47 -0500 (Tue, 04 Feb 2025) EllapsedTime: 94.6 seconds RetCode: 0 Status: OK PackageFile: genomation_1.38.0.tar.gz PackageFileSize: 6.005 MiB