Package: genomation Version: 1.38.0 Command: /Library/Frameworks/R.framework/Resources/bin/R CMD build --keep-empty-dirs --no-resave-data genomation StartedAt: 2025-02-03 19:09:02 -0500 (Mon, 03 Feb 2025) EndedAt: 2025-02-03 19:11:59 -0500 (Mon, 03 Feb 2025) EllapsedTime: 176.2 seconds RetCode: 0 Status: OK PackageFile: genomation_1.38.0.tar.gz PackageFileSize: 6.005 MiB