Package: genomation Version: 1.38.0 Command: /home/biocbuild/bbs-3.20-bioc/R/bin/R CMD build --keep-empty-dirs --no-resave-data --md5 genomation StartedAt: 2025-02-03 17:32:31 -0500 (Mon, 03 Feb 2025) EndedAt: 2025-02-03 17:33:43 -0500 (Mon, 03 Feb 2025) EllapsedTime: 71.1 seconds RetCode: 0 Status: OK PackageFile: genomation_1.38.0.tar.gz PackageFileSize: 6.013 MiB