Package: genomeIntervals Version: 1.62.0 Command: /Library/Frameworks/R.framework/Resources/bin/R CMD INSTALL genomeIntervals StartedAt: 2025-02-03 15:21:14 -0500 (Mon, 03 Feb 2025) EndedAt: 2025-02-03 15:21:48 -0500 (Mon, 03 Feb 2025) EllapsedTime: 33.2 seconds RetCode: 0 Status: OK