Package: genomeIntervals Version: 1.62.0 Command: /home/biocbuild/bbs-3.20-bioc/R/bin/R CMD check --install=check:genomeIntervals.install-out.txt --library=/home/biocbuild/bbs-3.20-bioc/R/site-library --timings genomeIntervals_1.62.0.tar.gz StartedAt: 2025-02-03 22:39:51 -0500 (Mon, 03 Feb 2025) EndedAt: 2025-02-03 22:41:22 -0500 (Mon, 03 Feb 2025) EllapsedTime: 91.1 seconds RetCode: 0 Status: WARNINGS CheckDir: genomeIntervals.Rcheck Warnings: 1