Package: genomeIntervals Version: 1.62.0 Command: F:\biocbuild\bbs-3.20-bioc\R\bin\R.exe CMD INSTALL genomeIntervals StartedAt: 2025-02-03 15:50:02 -0500 (Mon, 03 Feb 2025) EndedAt: 2025-02-03 15:51:20 -0500 (Mon, 03 Feb 2025) EllapsedTime: 78.2 seconds RetCode: 0 Status: OK