Package: genomes Version: 3.36.0 Command: /Library/Frameworks/R.framework/Resources/bin/R CMD INSTALL genomes StartedAt: 2025-02-03 15:16:41 -0500 (Mon, 03 Feb 2025) EndedAt: 2025-02-03 15:16:59 -0500 (Mon, 03 Feb 2025) EllapsedTime: 18.1 seconds RetCode: 0 Status: OK