Package: genomes Version: 3.36.0 Command: chmod a+r genomes -R && F:\biocbuild\bbs-3.20-bioc\R\bin\R.exe CMD build --keep-empty-dirs --no-resave-data genomes StartedAt: 2025-02-03 19:23:42 -0500 (Mon, 03 Feb 2025) EndedAt: 2025-02-03 19:24:01 -0500 (Mon, 03 Feb 2025) EllapsedTime: 18.7 seconds RetCode: 0 Status: OK PackageFile: genomes_3.36.0.tar.gz PackageFileSize: 35.82 KiB