Package: genomicInstability Version: 1.12.0 Command: rm -rf genomicInstability.buildbin-libdir && mkdir genomicInstability.buildbin-libdir && /Users/biocbuild/BBS/utils/build-universal.sh genomicInstability_1.12.0.tar.gz /Library/Frameworks/R.framework/Resources/bin/R genomicInstability.buildbin-libdir StartedAt: 2025-02-05 16:00:07 -0500 (Wed, 05 Feb 2025) EndedAt: 2025-02-05 16:00:40 -0500 (Wed, 05 Feb 2025) EllapsedTime: 32.4 seconds RetCode: 0 Status: OK PackageFile: genomicInstability_1.12.0.tgz PackageFileSize: 1.267 MiB