Package: genomicInstability Version: 1.12.0 Command: /Library/Frameworks/R.framework/Resources/bin/R CMD build --keep-empty-dirs --no-resave-data genomicInstability StartedAt: 2025-02-04 00:12:34 -0500 (Tue, 04 Feb 2025) EndedAt: 2025-02-04 00:14:47 -0500 (Tue, 04 Feb 2025) EllapsedTime: 133.5 seconds RetCode: 0 Status: OK PackageFile: genomicInstability_1.12.0.tar.gz PackageFileSize: 1.211 MiB