Package: genomicInstability Version: 1.12.0 Command: /Library/Frameworks/R.framework/Resources/bin/R CMD build --keep-empty-dirs --no-resave-data genomicInstability StartedAt: 2025-01-30 19:22:15 -0500 (Thu, 30 Jan 2025) EndedAt: 2025-01-30 19:26:25 -0500 (Thu, 30 Jan 2025) EllapsedTime: 250.6 seconds RetCode: 0 Status: OK PackageFile: genomicInstability_1.12.0.tar.gz PackageFileSize: 1.211 MiB