Package: genomicInstability Version: 1.12.0 Command: /Library/Frameworks/R.framework/Resources/bin/R CMD INSTALL genomicInstability StartedAt: 2025-01-30 16:14:16 -0500 (Thu, 30 Jan 2025) EndedAt: 2025-01-30 16:15:11 -0500 (Thu, 30 Jan 2025) EllapsedTime: 54.4 seconds RetCode: 0 Status: OK