Package: genomicInstability Version: 1.12.0 Command: /home/biocbuild/bbs-3.20-bioc/R/bin/R CMD build --keep-empty-dirs --no-resave-data --md5 genomicInstability StartedAt: 2025-01-30 17:23:39 -0500 (Thu, 30 Jan 2025) EndedAt: 2025-01-30 17:25:29 -0500 (Thu, 30 Jan 2025) EllapsedTime: 110.1 seconds RetCode: 0 Status: OK PackageFile: genomicInstability_1.12.0.tar.gz PackageFileSize: 1.223 MiB