Package: genomicInstability Version: 1.12.0 Command: rm -rf genomicInstability.buildbin-libdir && mkdir genomicInstability.buildbin-libdir && F:\biocbuild\bbs-3.20-bioc\R\bin\R.exe CMD INSTALL --build --library=genomicInstability.buildbin-libdir genomicInstability_1.12.0.tar.gz StartedAt: 2025-02-04 08:34:47 -0500 (Tue, 04 Feb 2025) EndedAt: 2025-02-04 08:35:26 -0500 (Tue, 04 Feb 2025) EllapsedTime: 39.4 seconds RetCode: 0 Status: OK PackageFile: genomicInstability_1.12.0.zip PackageFileSize: 1.088 MiB