Package: genomicInstability Version: 1.12.0 Command: chmod a+r genomicInstability -R && F:\biocbuild\bbs-3.20-bioc\R\bin\R.exe CMD build --keep-empty-dirs --no-resave-data genomicInstability StartedAt: 2025-02-03 19:24:22 -0500 (Mon, 03 Feb 2025) EndedAt: 2025-02-03 19:26:39 -0500 (Mon, 03 Feb 2025) EllapsedTime: 137.8 seconds RetCode: 0 Status: OK PackageFile: genomicInstability_1.12.0.tar.gz PackageFileSize: 1.029 MiB