Package: genomicInstability Version: 1.12.0 Command: /home/biocbuild/R/R/bin/R CMD build --keep-empty-dirs --no-resave-data genomicInstability StartedAt: 2025-01-30 23:50:17 -0000 (Thu, 30 Jan 2025) EndedAt: 2025-01-30 23:52:06 -0000 (Thu, 30 Jan 2025) EllapsedTime: 109.1 seconds RetCode: 0 Status: OK PackageFile: genomicInstability_1.12.0.tar.gz PackageFileSize: 1.213 MiB