Package: genomicInstability Version: 1.12.0 Command: /home/biocbuild/R/R/bin/R CMD check --install=check:genomicInstability.install-out.txt --library=/home/biocbuild/R/R/site-library --no-vignettes --timings genomicInstability_1.12.0.tar.gz StartedAt: 2025-02-04 07:18:16 -0000 (Tue, 04 Feb 2025) EndedAt: 2025-02-04 07:23:10 -0000 (Tue, 04 Feb 2025) EllapsedTime: 293.1 seconds RetCode: 0 Status: OK CheckDir: genomicInstability.Rcheck Warnings: 0